BEGIN:VCALENDAR
VERSION:2.0
PRODID:-//Rockcyclus - ECPv5.16.0//NONSGML v1.0//EN
CALSCALE:GREGORIAN
METHOD:PUBLISH
X-WR-CALNAME:Rockcyclus
X-ORIGINAL-URL:https://rockcyclus.de
X-WR-CALDESC:Veranstaltungen für Rockcyclus
BEGIN:VTIMEZONE
TZID:UTC
BEGIN:STANDARD
TZOFFSETFROM:+0000
TZOFFSETTO:+0000
TZNAME:UTC
DTSTART:20170101T000000
END:STANDARD
END:VTIMEZONE
BEGIN:VEVENT
DTSTART;TZID=UTC:20170915T200000
DTEND;TZID=UTC:20170915T200000
DTSTAMP:20260422T130748
CREATED:20170829T094912Z
LAST-MODIFIED:20170829T094912Z
UID:1759-1505505600-1505505600@rockcyclus.de
SUMMARY:Jörg Seidel Quartett
DESCRIPTION:„Merci … my personal tribute to Udo Jürgens“
URL:https://rockcyclus.de/event/joerg-seidel-quartett/
LOCATION:Lütt Mandus\, Westerhamm 59\, Wingst\, 21789
END:VEVENT
END:VCALENDAR