BEGIN:VCALENDAR
VERSION:2.0
PRODID:-//Rockcyclus - ECPv5.16.0//NONSGML v1.0//EN
CALSCALE:GREGORIAN
METHOD:PUBLISH
X-WR-CALNAME:Rockcyclus
X-ORIGINAL-URL:https://rockcyclus.de
X-WR-CALDESC:Veranstaltungen für Rockcyclus
BEGIN:VTIMEZONE
TZID:UTC
BEGIN:STANDARD
TZOFFSETFROM:+0000
TZOFFSETTO:+0000
TZNAME:UTC
DTSTART:20180101T000000
END:STANDARD
END:VTIMEZONE
BEGIN:VEVENT
DTSTART;TZID=UTC:20181102T200000
DTEND;TZID=UTC:20181102T200000
DTSTAMP:20260420T134032
CREATED:20180107T002849Z
LAST-MODIFIED:20180107T002849Z
UID:2622-1541188800-1541188800@rockcyclus.de
SUMMARY:Jörg Seidel Trio
DESCRIPTION:
URL:https://rockcyclus.de/event/joerg-seidel-trio-5/
LOCATION:Bettenhaus Aissen\, Lange Straße 118-120\, Bremerhaven\, 27580
END:VEVENT
END:VCALENDAR