BEGIN:VCALENDAR
VERSION:2.0
PRODID:-//Rockcyclus - ECPv5.16.0//NONSGML v1.0//EN
CALSCALE:GREGORIAN
METHOD:PUBLISH
X-WR-CALNAME:Rockcyclus
X-ORIGINAL-URL:https://rockcyclus.de
X-WR-CALDESC:Veranstaltungen für Rockcyclus
BEGIN:VTIMEZONE
TZID:UTC
BEGIN:STANDARD
TZOFFSETFROM:+0000
TZOFFSETTO:+0000
TZNAME:UTC
DTSTART:20190101T000000
END:STANDARD
END:VTIMEZONE
BEGIN:VEVENT
DTSTART;TZID=UTC:20190502T200000
DTEND;TZID=UTC:20190502T200000
DTSTAMP:20260425T125424
CREATED:20190128T123039Z
LAST-MODIFIED:20190128T123039Z
UID:5325-1556827200-1556827200@rockcyclus.de
SUMMARY:Klaus Möckelmann Trio
DESCRIPTION:https://www.klaus-moeckelmann-trio.de/
URL:https://rockcyclus.de/event/klaus-moeckelmann-trio/
LOCATION:Quartier 159\, Bürgermeister-Smidt-Straße 159\, Bremerhaven\, 27568
END:VEVENT
END:VCALENDAR