BEGIN:VCALENDAR
VERSION:2.0
PRODID:-//Rockcyclus - ECPv5.16.0//NONSGML v1.0//EN
CALSCALE:GREGORIAN
METHOD:PUBLISH
X-WR-CALNAME:Rockcyclus
X-ORIGINAL-URL:https://rockcyclus.de
X-WR-CALDESC:Veranstaltungen für Rockcyclus
BEGIN:VTIMEZONE
TZID:UTC
BEGIN:STANDARD
TZOFFSETFROM:+0000
TZOFFSETTO:+0000
TZNAME:UTC
DTSTART:20190101T000000
END:STANDARD
END:VTIMEZONE
BEGIN:VEVENT
DTSTART;TZID=UTC:20190120T163000
DTEND;TZID=UTC:20190120T163000
DTSTAMP:20260424T113817
CREATED:20190104T141039Z
LAST-MODIFIED:20190104T141039Z
UID:5217-1548001800-1548001800@rockcyclus.de
SUMMARY:Loten
DESCRIPTION:
URL:https://rockcyclus.de/event/loten/
LOCATION:Findus\, Bürgermeister-Smidt-Straße 218 212\, Bremerhaven\, Bremen\, 27568\, Deutschland
END:VEVENT
END:VCALENDAR