BEGIN:VCALENDAR
VERSION:2.0
PRODID:-//Rockcyclus - ECPv5.16.0//NONSGML v1.0//EN
CALSCALE:GREGORIAN
METHOD:PUBLISH
X-WR-CALNAME:Rockcyclus
X-ORIGINAL-URL:https://rockcyclus.de
X-WR-CALDESC:Veranstaltungen für Rockcyclus
BEGIN:VTIMEZONE
TZID:UTC
BEGIN:STANDARD
TZOFFSETFROM:+0000
TZOFFSETTO:+0000
TZNAME:UTC
DTSTART:20190101T000000
END:STANDARD
END:VTIMEZONE
BEGIN:VEVENT
DTSTART;TZID=UTC:20190817T203000
DTEND;TZID=UTC:20190817T203000
DTSTAMP:20260421T054642
CREATED:20190802T154756Z
LAST-MODIFIED:20190802T154756Z
UID:6241-1566073800-1566073800@rockcyclus.de
SUMMARY:Manfred Leuchter
DESCRIPTION:https://www.scott-douglas.de/index.php/de/scott-douglas/seminarhaus/konzerte.html
URL:https://rockcyclus.de/event/manfred-leuchter-3/
LOCATION:Seminarhaus Scott-Douglas\, Osterstaderstraße 8b\, Hagen im Bremischen\, Niedersachsen\, 27628\, Deutschland
END:VEVENT
END:VCALENDAR