BEGIN:VCALENDAR
VERSION:2.0
PRODID:-//Rockcyclus - ECPv5.16.0//NONSGML v1.0//EN
CALSCALE:GREGORIAN
METHOD:PUBLISH
X-WR-CALNAME:Rockcyclus
X-ORIGINAL-URL:https://rockcyclus.de
X-WR-CALDESC:Veranstaltungen für Rockcyclus
BEGIN:VTIMEZONE
TZID:UTC
BEGIN:STANDARD
TZOFFSETFROM:+0000
TZOFFSETTO:+0000
TZNAME:UTC
DTSTART:20180101T000000
END:STANDARD
END:VTIMEZONE
BEGIN:VEVENT
DTSTART;TZID=UTC:20181024T200000
DTEND;TZID=UTC:20181024T200000
DTSTAMP:20260421T021515
CREATED:20180807T103911Z
LAST-MODIFIED:20180807T103911Z
UID:4180-1540411200-1540411200@rockcyclus.de
SUMMARY:Marcia Bittencourt
DESCRIPTION:https://marciabittencourt.de/
URL:https://rockcyclus.de/event/marcia-bittencourt/
LOCATION:Pferdestall\, Gartenstraße 3 - 5\, Bremerhaven
END:VEVENT
END:VCALENDAR