BEGIN:VCALENDAR
VERSION:2.0
PRODID:-//Rockcyclus - ECPv5.16.0//NONSGML v1.0//EN
CALSCALE:GREGORIAN
METHOD:PUBLISH
X-WR-CALNAME:Rockcyclus
X-ORIGINAL-URL:https://rockcyclus.de
X-WR-CALDESC:Veranstaltungen für Rockcyclus
BEGIN:VTIMEZONE
TZID:UTC
BEGIN:STANDARD
TZOFFSETFROM:+0000
TZOFFSETTO:+0000
TZNAME:UTC
DTSTART:20180101T000000
END:STANDARD
END:VTIMEZONE
BEGIN:VEVENT
DTSTART;TZID=UTC:20180414T210000
DTEND;TZID=UTC:20180414T210000
DTSTAMP:20260420T112956
CREATED:20180303T163200Z
LAST-MODIFIED:20180303T163200Z
UID:3019-1523739600-1523739600@rockcyclus.de
SUMMARY:Michael Dühnfort & the Noise Boys
DESCRIPTION:Im Vorprogramm: Rihm & Dühnfort
URL:https://rockcyclus.de/event/michael-duehnfort-the-noise-boys-3/
LOCATION:Noltesche Scheune\, Mühlenweg 1\, Süstedt\, 27305
ATTACH;FMTTYPE=image/jpeg:https://rockcyclus.de/wp-content/uploads/2018/01/duehnfort_72dpi_b-p.jpg
ORGANIZER;CN="S%C3%BCster%20Kring%20e.%20V.":MAILTO:wm@winfried-metzner.de
END:VEVENT
END:VCALENDAR