BEGIN:VCALENDAR
VERSION:2.0
PRODID:-//Rockcyclus - ECPv5.16.0//NONSGML v1.0//EN
CALSCALE:GREGORIAN
METHOD:PUBLISH
X-WR-CALNAME:Rockcyclus
X-ORIGINAL-URL:https://rockcyclus.de
X-WR-CALDESC:Veranstaltungen für Rockcyclus
BEGIN:VTIMEZONE
TZID:UTC
BEGIN:STANDARD
TZOFFSETFROM:+0000
TZOFFSETTO:+0000
TZNAME:UTC
DTSTART:20230101T000000
END:STANDARD
END:VTIMEZONE
BEGIN:VEVENT
DTSTART;TZID=UTC:20230506T203000
DTEND;TZID=UTC:20230506T203000
DTSTAMP:20260422T112235
CREATED:20230426T124408Z
LAST-MODIFIED:20230426T124408Z
UID:9353-1683405000-1683405000@rockcyclus.de
SUMMARY:Myrkvi Island
DESCRIPTION:https://www.facebook.com/events/265626325899256
URL:https://rockcyclus.de/event/myrkvi-island/
LOCATION:Cafe de Fiets\, Bgm.Smidt-Str. 155\, Bremerhaven\, 27568
END:VEVENT
END:VCALENDAR