BEGIN:VCALENDAR
VERSION:2.0
PRODID:-//Rockcyclus - ECPv5.16.0//NONSGML v1.0//EN
CALSCALE:GREGORIAN
METHOD:PUBLISH
X-WR-CALNAME:Rockcyclus
X-ORIGINAL-URL:https://rockcyclus.de
X-WR-CALDESC:Veranstaltungen für Rockcyclus
BEGIN:VTIMEZONE
TZID:UTC
BEGIN:STANDARD
TZOFFSETFROM:+0000
TZOFFSETTO:+0000
TZNAME:UTC
DTSTART:20230101T000000
END:STANDARD
END:VTIMEZONE
BEGIN:VEVENT
DTSTART;TZID=UTC:20230512T160000
DTEND;TZID=UTC:20230513T233000
DTSTAMP:20260422T092820
CREATED:20221208T152439Z
LAST-MODIFIED:20221208T152439Z
UID:9101-1683907200-1684020600@rockcyclus.de
SUMMARY:NIG ROCK Festival
DESCRIPTION:https://nigrock.jimdo.com/
URL:https://rockcyclus.de/event/nig-rock-festival-3/
LOCATION:NIG ROCK Festival\, Seminarstr. 8\, Geestland\, Niedersachsen\, 27624\, Deutschland
END:VEVENT
END:VCALENDAR