BEGIN:VCALENDAR
VERSION:2.0
PRODID:-//Rockcyclus - ECPv5.16.0//NONSGML v1.0//EN
CALSCALE:GREGORIAN
METHOD:PUBLISH
X-WR-CALNAME:Rockcyclus
X-ORIGINAL-URL:https://rockcyclus.de
X-WR-CALDESC:Veranstaltungen für Rockcyclus
BEGIN:VTIMEZONE
TZID:UTC
BEGIN:STANDARD
TZOFFSETFROM:+0000
TZOFFSETTO:+0000
TZNAME:UTC
DTSTART:20180101T000000
END:STANDARD
END:VTIMEZONE
BEGIN:VEVENT
DTSTART;TZID=UTC:20181208T210000
DTEND;TZID=UTC:20181208T210000
DTSTAMP:20260423T190327
CREATED:20181016T144924Z
LAST-MODIFIED:20181016T144924Z
UID:4758-1544302800-1544302800@rockcyclus.de
SUMMARY:Northern Comfort
DESCRIPTION:https://www.facebook.com/nc.bluesrock/
URL:https://rockcyclus.de/event/northern-comfort-4/
LOCATION:Kuddels Musikkneipe\, Goethestraße 1\, Bremerhaven\, 27576
END:VEVENT
END:VCALENDAR