BEGIN:VCALENDAR
VERSION:2.0
PRODID:-//Rockcyclus - ECPv5.16.0//NONSGML v1.0//EN
CALSCALE:GREGORIAN
METHOD:PUBLISH
X-WR-CALNAME:Rockcyclus
X-ORIGINAL-URL:https://rockcyclus.de
X-WR-CALDESC:Veranstaltungen für Rockcyclus
BEGIN:VTIMEZONE
TZID:UTC
BEGIN:STANDARD
TZOFFSETFROM:+0000
TZOFFSETTO:+0000
TZNAME:UTC
DTSTART:20180101T000000
END:STANDARD
END:VTIMEZONE
BEGIN:VEVENT
DTSTART;TZID=UTC:20180414T210000
DTEND;TZID=UTC:20180414T210000
DTSTAMP:20260420T112218
CREATED:20180314T150635Z
LAST-MODIFIED:20180314T150635Z
UID:3075-1523739600-1523739600@rockcyclus.de
SUMMARY:Oliver Sarmenta
DESCRIPTION:
URL:https://rockcyclus.de/event/oliver-sarmenta/
LOCATION:Kuddels Musikkneipe\, Goethestraße 1\, Bremerhaven\, 27576
END:VEVENT
END:VCALENDAR