BEGIN:VCALENDAR
VERSION:2.0
PRODID:-//Rockcyclus - ECPv5.16.0//NONSGML v1.0//EN
CALSCALE:GREGORIAN
METHOD:PUBLISH
X-WR-CALNAME:Rockcyclus
X-ORIGINAL-URL:https://rockcyclus.de
X-WR-CALDESC:Veranstaltungen für Rockcyclus
BEGIN:VTIMEZONE
TZID:UTC
BEGIN:STANDARD
TZOFFSETFROM:+0000
TZOFFSETTO:+0000
TZNAME:UTC
DTSTART:20190101T000000
END:STANDARD
END:VTIMEZONE
BEGIN:VEVENT
DTSTART;TZID=UTC:20190607T190000
DTEND;TZID=UTC:20190607T190000
DTSTAMP:20260424T193513
CREATED:20190124T150300Z
LAST-MODIFIED:20190124T150300Z
UID:5309-1559934000-1559934000@rockcyclus.de
SUMMARY:Open Air Worpswede
DESCRIPTION:https://www.facebook.com/scheuneworpswede/
URL:https://rockcyclus.de/event/open-air-worpswede-4/
LOCATION:Juz Scheune\, An der Kirche 9\, Worpswede\, 27726
END:VEVENT
END:VCALENDAR