BEGIN:VCALENDAR
VERSION:2.0
PRODID:-//Rockcyclus - ECPv5.16.0//NONSGML v1.0//EN
CALSCALE:GREGORIAN
METHOD:PUBLISH
X-WR-CALNAME:Rockcyclus
X-ORIGINAL-URL:https://rockcyclus.de
X-WR-CALDESC:Veranstaltungen für Rockcyclus
BEGIN:VTIMEZONE
TZID:UTC
BEGIN:STANDARD
TZOFFSETFROM:+0000
TZOFFSETTO:+0000
TZNAME:UTC
DTSTART:20180101T000000
END:STANDARD
END:VTIMEZONE
BEGIN:VEVENT
DTSTART;TZID=UTC:20180418T200000
DTEND;TZID=UTC:20180418T200000
DTSTAMP:20260420T104956
CREATED:20180122T132024Z
LAST-MODIFIED:20180122T132024Z
UID:2765-1524081600-1524081600@rockcyclus.de
SUMMARY:Open Stage
DESCRIPTION:Kontakt und Anmeldung:\n0179-1781003\nmail@openstage-bremen.de
URL:https://rockcyclus.de/event/open-stage-3/
LOCATION:Zollkantine\, Hansator 1\, Bremen\, Bremen\, 28217\, Deutschland
END:VEVENT
END:VCALENDAR