BEGIN:VCALENDAR
VERSION:2.0
PRODID:-//Rockcyclus - ECPv5.16.0//NONSGML v1.0//EN
CALSCALE:GREGORIAN
METHOD:PUBLISH
X-WR-CALNAME:Rockcyclus
X-ORIGINAL-URL:https://rockcyclus.de
X-WR-CALDESC:Veranstaltungen für Rockcyclus
BEGIN:VTIMEZONE
TZID:UTC
BEGIN:STANDARD
TZOFFSETFROM:+0000
TZOFFSETTO:+0000
TZNAME:UTC
DTSTART:20190101T000000
END:STANDARD
END:VTIMEZONE
BEGIN:VEVENT
DTSTART;TZID=UTC:20190705T171500
DTEND;TZID=UTC:20190705T171500
DTSTAMP:20260422T033001
CREATED:20190630T212135Z
LAST-MODIFIED:20190630T212135Z
UID:6067-1562346900-1562346900@rockcyclus.de
SUMMARY:Pad.
DESCRIPTION:https://www.facebook.com/tenskimusik
URL:https://rockcyclus.de/event/pad-3/
LOCATION:Bühne Hahn\, Böttcherstraße\, Bremen
END:VEVENT
END:VCALENDAR