BEGIN:VCALENDAR
VERSION:2.0
PRODID:-//Rockcyclus - ECPv5.16.0//NONSGML v1.0//EN
CALSCALE:GREGORIAN
METHOD:PUBLISH
X-WR-CALNAME:Rockcyclus
X-ORIGINAL-URL:https://rockcyclus.de
X-WR-CALDESC:Veranstaltungen für Rockcyclus
BEGIN:VTIMEZONE
TZID:UTC
BEGIN:STANDARD
TZOFFSETFROM:+0000
TZOFFSETTO:+0000
TZNAME:UTC
DTSTART:20220101T000000
END:STANDARD
END:VTIMEZONE
BEGIN:VEVENT
DTSTART;TZID=UTC:20221030T180000
DTEND;TZID=UTC:20221030T180000
DTSTAMP:20260421T215356
CREATED:20221025T131247Z
LAST-MODIFIED:20221025T131247Z
UID:8973-1667152800-1667152800@rockcyclus.de
SUMMARY:Paralyzed | Infarkt XIII
DESCRIPTION:https://www.facebook.com/events/612676416938885
URL:https://rockcyclus.de/event/paralyzed-infarkt-xiii/
LOCATION:Shiva – Kulturbahnhof\, Moltkestr. 13\, Bremerhaven\, 27576
END:VEVENT
END:VCALENDAR