BEGIN:VCALENDAR
VERSION:2.0
PRODID:-//Rockcyclus - ECPv5.16.0//NONSGML v1.0//EN
CALSCALE:GREGORIAN
METHOD:PUBLISH
X-WR-CALNAME:Rockcyclus
X-ORIGINAL-URL:https://rockcyclus.de
X-WR-CALDESC:Veranstaltungen für Rockcyclus
BEGIN:VTIMEZONE
TZID:UTC
BEGIN:STANDARD
TZOFFSETFROM:+0000
TZOFFSETTO:+0000
TZNAME:UTC
DTSTART:20190101T000000
END:STANDARD
END:VTIMEZONE
BEGIN:VEVENT
DTSTART;TZID=UTC:20190126T200000
DTEND;TZID=UTC:20190126T200000
DTSTAMP:20260424T152846
CREATED:20190119T112020Z
LAST-MODIFIED:20190123T134720Z
UID:5275-1548532800-1548532800@rockcyclus.de
SUMMARY:Pe Werner
DESCRIPTION:https://www.pewerner.de/
URL:https://rockcyclus.de/event/pe-werner/
LOCATION:TiF\, Am Schaufenster 6\, Bremerhaven
END:VEVENT
END:VCALENDAR