BEGIN:VCALENDAR
VERSION:2.0
PRODID:-//Rockcyclus - ECPv5.16.0//NONSGML v1.0//EN
CALSCALE:GREGORIAN
METHOD:PUBLISH
X-WR-CALNAME:Rockcyclus
X-ORIGINAL-URL:https://rockcyclus.de
X-WR-CALDESC:Veranstaltungen für Rockcyclus
BEGIN:VTIMEZONE
TZID:UTC
BEGIN:STANDARD
TZOFFSETFROM:+0000
TZOFFSETTO:+0000
TZNAME:UTC
DTSTART:20190101T000000
END:STANDARD
END:VTIMEZONE
BEGIN:VEVENT
DTSTART;TZID=UTC:20190820T180000
DTEND;TZID=UTC:20190820T180000
DTSTAMP:20260421T021849
CREATED:20190818T091002Z
LAST-MODIFIED:20190818T091002Z
UID:6318-1566324000-1566324000@rockcyclus.de
SUMMARY:Pimalo
DESCRIPTION:http://www.pimalo.com/
URL:https://rockcyclus.de/event/pimalo/
LOCATION:Weserperle\, Fährstraße\, Dedesdorf\, 27612
END:VEVENT
END:VCALENDAR