BEGIN:VCALENDAR
VERSION:2.0
PRODID:-//Rockcyclus - ECPv5.16.0//NONSGML v1.0//EN
CALSCALE:GREGORIAN
METHOD:PUBLISH
X-WR-CALNAME:Rockcyclus
X-ORIGINAL-URL:https://rockcyclus.de
X-WR-CALDESC:Veranstaltungen für Rockcyclus
BEGIN:VTIMEZONE
TZID:UTC
BEGIN:STANDARD
TZOFFSETFROM:+0000
TZOFFSETTO:+0000
TZNAME:UTC
DTSTART:20200101T000000
END:STANDARD
END:VTIMEZONE
BEGIN:VEVENT
DTSTART;TZID=UTC:20200306T210000
DTEND;TZID=UTC:20200306T210000
DTSTAMP:20260421T001026
CREATED:20191024T080416Z
LAST-MODIFIED:20191024T080416Z
UID:6594-1583528400-1583528400@rockcyclus.de
SUMMARY:Ramblin' Bluesband
DESCRIPTION:http://www.ramblinbluesband.de
URL:https://rockcyclus.de/event/ramblin-bluesband-4/
LOCATION:Meisenfrei\, Hankenstraße 18\, Bremen\, 28195
END:VEVENT
END:VCALENDAR