BEGIN:VCALENDAR
VERSION:2.0
PRODID:-//Rockcyclus - ECPv5.16.0//NONSGML v1.0//EN
CALSCALE:GREGORIAN
METHOD:PUBLISH
X-WR-CALNAME:Rockcyclus
X-ORIGINAL-URL:https://rockcyclus.de
X-WR-CALDESC:Veranstaltungen für Rockcyclus
BEGIN:VTIMEZONE
TZID:UTC
BEGIN:STANDARD
TZOFFSETFROM:+0000
TZOFFSETTO:+0000
TZNAME:UTC
DTSTART:20200101T000000
END:STANDARD
END:VTIMEZONE
BEGIN:VEVENT
DTSTART;TZID=UTC:20200313T180000
DTEND;TZID=UTC:20200313T180000
DTSTAMP:20260421T063043
CREATED:20200225T134554Z
LAST-MODIFIED:20200225T134554Z
UID:7270-1584122400-1584122400@rockcyclus.de
SUMMARY:Raum/27
DESCRIPTION:https://www.facebook.com/Raum27/
URL:https://rockcyclus.de/event/raum-27-4/
LOCATION:Bankstage\, Bgm.-Smidt-Str. 102\, Bremerhaven
END:VEVENT
END:VCALENDAR