BEGIN:VCALENDAR
VERSION:2.0
PRODID:-//Rockcyclus - ECPv5.16.0//NONSGML v1.0//EN
CALSCALE:GREGORIAN
METHOD:PUBLISH
X-WR-CALNAME:Rockcyclus
X-ORIGINAL-URL:https://rockcyclus.de
X-WR-CALDESC:Veranstaltungen für Rockcyclus
BEGIN:VTIMEZONE
TZID:UTC
BEGIN:STANDARD
TZOFFSETFROM:+0000
TZOFFSETTO:+0000
TZNAME:UTC
DTSTART:20190101T000000
END:STANDARD
END:VTIMEZONE
BEGIN:VEVENT
DTSTART;TZID=UTC:20190607T200000
DTEND;TZID=UTC:20190607T200000
DTSTAMP:20260424T192953
CREATED:20190319T125558Z
LAST-MODIFIED:20190429T081253Z
UID:5528-1559937600-1559937600@rockcyclus.de
SUMMARY:Die Rauschen
DESCRIPTION:https://www.facebook.com/dierauschen/
URL:https://rockcyclus.de/event/rauschen/
LOCATION:Döser Börse\, Strichweg 22\, Cuxhaven\, Niedersachsen\, 27472\, Deutschland
END:VEVENT
END:VCALENDAR