BEGIN:VCALENDAR
VERSION:2.0
PRODID:-//Rockcyclus - ECPv5.16.0//NONSGML v1.0//EN
CALSCALE:GREGORIAN
METHOD:PUBLISH
X-WR-CALNAME:Rockcyclus
X-ORIGINAL-URL:https://rockcyclus.de
X-WR-CALDESC:Veranstaltungen für Rockcyclus
BEGIN:VTIMEZONE
TZID:UTC
BEGIN:STANDARD
TZOFFSETFROM:+0000
TZOFFSETTO:+0000
TZNAME:UTC
DTSTART:20180101T000000
END:STANDARD
END:VTIMEZONE
BEGIN:VEVENT
DTSTART;TZID=UTC:20181025T200000
DTEND;TZID=UTC:20181025T200000
DTSTAMP:20260421T074609
CREATED:20181001T162120Z
LAST-MODIFIED:20181001T162120Z
UID:4675-1540497600-1540497600@rockcyclus.de
SUMMARY:Rihm & Dühnfort
DESCRIPTION:https://www.facebook.com/rihm.duehnfort
URL:https://rockcyclus.de/event/rihm-duehnfort-3/
LOCATION:Centraltheater Brake\, Mitteldeichstr. 31\, Brake\, 26919
END:VEVENT
END:VCALENDAR