BEGIN:VCALENDAR
VERSION:2.0
PRODID:-//Rockcyclus - ECPv5.16.0//NONSGML v1.0//EN
CALSCALE:GREGORIAN
METHOD:PUBLISH
X-WR-CALNAME:Rockcyclus
X-ORIGINAL-URL:https://rockcyclus.de
X-WR-CALDESC:Veranstaltungen für Rockcyclus
BEGIN:VTIMEZONE
TZID:UTC
BEGIN:STANDARD
TZOFFSETFROM:+0000
TZOFFSETTO:+0000
TZNAME:UTC
DTSTART:20190101T000000
END:STANDARD
END:VTIMEZONE
BEGIN:VEVENT
DTSTART;TZID=UTC:20190117T193000
DTEND;TZID=UTC:20190117T193000
DTSTAMP:20260424T082717
CREATED:20181203T123647Z
LAST-MODIFIED:20181203T123647Z
UID:4976-1547753400-1547753400@rockcyclus.de
SUMMARY:Sail 2020 rockt - Blues Brothers Special
DESCRIPTION:https://www.stadttheaterbremerhaven.de/schauspiel/blues-brothers/
URL:https://rockcyclus.de/event/sail-2020-rockt-blues-brothers-special/
LOCATION:Stadttheater Bremerhaven\, Theodor-Heuss-Platz\, Bremerhaven\, 27568
END:VEVENT
END:VCALENDAR