BEGIN:VCALENDAR
VERSION:2.0
PRODID:-//Rockcyclus - ECPv5.16.0//NONSGML v1.0//EN
CALSCALE:GREGORIAN
METHOD:PUBLISH
X-WR-CALNAME:Rockcyclus
X-ORIGINAL-URL:https://rockcyclus.de
X-WR-CALDESC:Veranstaltungen für Rockcyclus
BEGIN:VTIMEZONE
TZID:UTC
BEGIN:STANDARD
TZOFFSETFROM:+0000
TZOFFSETTO:+0000
TZNAME:UTC
DTSTART:20170101T000000
END:STANDARD
END:VTIMEZONE
BEGIN:VEVENT
DTSTART;TZID=UTC:20170702T120000
DTEND;TZID=UTC:20170702T170000
DTSTAMP:20260420T125150
CREATED:20170619T101237Z
LAST-MODIFIED:20170619T101237Z
UID:1173-1498996800-1499014800@rockcyclus.de
SUMMARY:Sail City Heroes
DESCRIPTION:
URL:https://rockcyclus.de/event/sail-city-heroes-2/
LOCATION:BBQ an der Burg\, Amtsstraße 17\, Bad Bederkesa\, 27624
END:VEVENT
END:VCALENDAR