BEGIN:VCALENDAR
VERSION:2.0
PRODID:-//Rockcyclus - ECPv5.16.0//NONSGML v1.0//EN
CALSCALE:GREGORIAN
METHOD:PUBLISH
X-WR-CALNAME:Rockcyclus
X-ORIGINAL-URL:https://rockcyclus.de
X-WR-CALDESC:Veranstaltungen für Rockcyclus
BEGIN:VTIMEZONE
TZID:UTC
BEGIN:STANDARD
TZOFFSETFROM:+0000
TZOFFSETTO:+0000
TZNAME:UTC
DTSTART:20220101T000000
END:STANDARD
END:VTIMEZONE
BEGIN:VEVENT
DTSTART;TZID=UTC:20220818T170000
DTEND;TZID=UTC:20220818T183000
DTSTAMP:20260422T131456
CREATED:20220728T132817Z
LAST-MODIFIED:20220728T132817Z
UID:8652-1660842000-1660847400@rockcyclus.de
SUMMARY:Salo Sulano
DESCRIPTION:https://www.bremerhaven.de/de/veranstaltungen/maritime-tage-2022/programm.115861.html
URL:https://rockcyclus.de/event/salo-sulano/
LOCATION:Havenwelten\, Bremerhaven\, 27568
END:VEVENT
END:VCALENDAR