BEGIN:VCALENDAR
VERSION:2.0
PRODID:-//Rockcyclus - ECPv5.16.0//NONSGML v1.0//EN
CALSCALE:GREGORIAN
METHOD:PUBLISH
X-WR-CALNAME:Rockcyclus
X-ORIGINAL-URL:https://rockcyclus.de
X-WR-CALDESC:Veranstaltungen für Rockcyclus
BEGIN:VTIMEZONE
TZID:UTC
BEGIN:STANDARD
TZOFFSETFROM:+0000
TZOFFSETTO:+0000
TZNAME:UTC
DTSTART:20200101T000000
END:STANDARD
END:VTIMEZONE
BEGIN:VEVENT
DTSTART;TZID=UTC:20200306T200000
DTEND;TZID=UTC:20200306T200000
DTSTAMP:20260421T022342
CREATED:20200211T124919Z
LAST-MODIFIED:20200211T124954Z
UID:7109-1583524800-1583524800@rockcyclus.de
SUMMARY:Shamotte | Brücken
DESCRIPTION:https://www.facebook.com/shamottissimo
URL:https://rockcyclus.de/event/shamotte-bruecken/
LOCATION:Döser Börse\, Strichweg 22\, Cuxhaven\, Niedersachsen\, 27472\, Deutschland
END:VEVENT
END:VCALENDAR