BEGIN:VCALENDAR
VERSION:2.0
PRODID:-//Rockcyclus - ECPv5.16.0//NONSGML v1.0//EN
CALSCALE:GREGORIAN
METHOD:PUBLISH
X-WR-CALNAME:Rockcyclus
X-ORIGINAL-URL:https://rockcyclus.de
X-WR-CALDESC:Veranstaltungen für Rockcyclus
BEGIN:VTIMEZONE
TZID:UTC
BEGIN:STANDARD
TZOFFSETFROM:+0000
TZOFFSETTO:+0000
TZNAME:UTC
DTSTART:20190101T000000
END:STANDARD
END:VTIMEZONE
BEGIN:VEVENT
DTSTART;TZID=UTC:20190503T210000
DTEND;TZID=UTC:20190503T210000
DTSTAMP:20260425T181110
CREATED:20190411T191310Z
LAST-MODIFIED:20190411T191310Z
UID:5670-1556917200-1556917200@rockcyclus.de
SUMMARY:She Danced Slowly | Raum/27
DESCRIPTION:https://www.facebook.com/shedancedslowly/ \nhttps://www.raumsiebenundzwanzig.de/
URL:https://rockcyclus.de/event/she-danced-slowly-raum-27/
LOCATION:Döser Börse\, Strichweg 22\, Cuxhaven\, Niedersachsen\, 27472\, Deutschland
END:VEVENT
END:VCALENDAR