BEGIN:VCALENDAR
VERSION:2.0
PRODID:-//Rockcyclus - ECPv5.16.0//NONSGML v1.0//EN
CALSCALE:GREGORIAN
METHOD:PUBLISH
X-WR-CALNAME:Rockcyclus
X-ORIGINAL-URL:https://rockcyclus.de
X-WR-CALDESC:Veranstaltungen für Rockcyclus
BEGIN:VTIMEZONE
TZID:UTC
BEGIN:STANDARD
TZOFFSETFROM:+0000
TZOFFSETTO:+0000
TZNAME:UTC
DTSTART:20190101T000000
END:STANDARD
END:VTIMEZONE
BEGIN:VEVENT
DTSTART;TZID=UTC:20190818T140000
DTEND;TZID=UTC:20190818T200000
DTSTAMP:20260421T022559
CREATED:20190130T153539Z
LAST-MODIFIED:20190130T153539Z
UID:5361-1566136800-1566158400@rockcyclus.de
SUMMARY:Sommerfest in Alberts Garten
DESCRIPTION:https://www.facebook.com/events/2234608213468679/
URL:https://rockcyclus.de/event/sommerfest-in-alberts-garten-2/
LOCATION:Alberts Hus\, An der Königsheide 17\, Bremerhaven\, 27578
END:VEVENT
END:VCALENDAR