BEGIN:VCALENDAR
VERSION:2.0
PRODID:-//Rockcyclus - ECPv5.16.0//NONSGML v1.0//EN
CALSCALE:GREGORIAN
METHOD:PUBLISH
X-WR-CALNAME:Rockcyclus
X-ORIGINAL-URL:https://rockcyclus.de
X-WR-CALDESC:Veranstaltungen für Rockcyclus
BEGIN:VTIMEZONE
TZID:UTC
BEGIN:STANDARD
TZOFFSETFROM:+0000
TZOFFSETTO:+0000
TZNAME:UTC
DTSTART:20190101T000000
END:STANDARD
END:VTIMEZONE
BEGIN:VEVENT
DTSTART;TZID=UTC:20190630T170000
DTEND;TZID=UTC:20190630T200000
DTSTAMP:20260422T052849
CREATED:20190609T114147Z
LAST-MODIFIED:20190623T102715Z
UID:5911-1561914000-1561924800@rockcyclus.de
SUMMARY:Sound-Garten: MotorPlanet | Muriel Colleen
DESCRIPTION:https://www.facebook.com/murielcolleen.official/\nhttps://www.facebook.com/motorplanetrock/
URL:https://rockcyclus.de/event/sound-garten-motorplanet-muriel-colleen/
LOCATION:Rock Cyclus Brhv.\, Am Fleeth 1\, Bremerhaven\, 27576
END:VEVENT
END:VCALENDAR