BEGIN:VCALENDAR
VERSION:2.0
PRODID:-//Rockcyclus - ECPv5.16.0//NONSGML v1.0//EN
CALSCALE:GREGORIAN
METHOD:PUBLISH
X-WR-CALNAME:Rockcyclus
X-ORIGINAL-URL:https://rockcyclus.de
X-WR-CALDESC:Veranstaltungen für Rockcyclus
BEGIN:VTIMEZONE
TZID:UTC
BEGIN:STANDARD
TZOFFSETFROM:+0000
TZOFFSETTO:+0000
TZNAME:UTC
DTSTART:20190101T000000
END:STANDARD
END:VTIMEZONE
BEGIN:VEVENT
DTSTART;TZID=UTC:20190628T230000
DTEND;TZID=UTC:20190628T230000
DTSTAMP:20260422T090728
CREATED:20190622T101020Z
LAST-MODIFIED:20190622T101020Z
UID:5989-1561762800-1561762800@rockcyclus.de
SUMMARY:Strange Friends
DESCRIPTION:http://www.strange-friends.de/
URL:https://rockcyclus.de/event/strange-friends-3/
LOCATION:Cafe de Fiets\, Bgm.Smidt-Str. 155\, Bremerhaven\, 27568
END:VEVENT
END:VCALENDAR