BEGIN:VCALENDAR
VERSION:2.0
PRODID:-//Rockcyclus - ECPv5.16.0//NONSGML v1.0//EN
CALSCALE:GREGORIAN
METHOD:PUBLISH
X-WR-CALNAME:Rockcyclus
X-ORIGINAL-URL:https://rockcyclus.de
X-WR-CALDESC:Veranstaltungen für Rockcyclus
BEGIN:VTIMEZONE
TZID:UTC
BEGIN:STANDARD
TZOFFSETFROM:+0000
TZOFFSETTO:+0000
TZNAME:UTC
DTSTART:20190101T000000
END:STANDARD
END:VTIMEZONE
BEGIN:VEVENT
DTSTART;TZID=UTC:20190119T203000
DTEND;TZID=UTC:20190119T203000
DTSTAMP:20260424T113033
CREATED:20181209T162831Z
LAST-MODIFIED:20181209T162831Z
UID:5005-1547929800-1547929800@rockcyclus.de
SUMMARY:Suns Fury | Charlie Levin
DESCRIPTION:https://www.facebook.com/charlielevinband
URL:https://rockcyclus.de/event/suns-fury-charlie-levin/
LOCATION:Cadillac\, Huntestraße 4a\, Oldenburg\, Niedersachsen\, 26135\, Deutschland
END:VEVENT
END:VCALENDAR