BEGIN:VCALENDAR
VERSION:2.0
PRODID:-//Rockcyclus - ECPv5.16.0//NONSGML v1.0//EN
CALSCALE:GREGORIAN
METHOD:PUBLISH
X-WR-CALNAME:Rockcyclus
X-ORIGINAL-URL:https://rockcyclus.de
X-WR-CALDESC:Veranstaltungen für Rockcyclus
BEGIN:VTIMEZONE
TZID:UTC
BEGIN:STANDARD
TZOFFSETFROM:+0000
TZOFFSETTO:+0000
TZNAME:UTC
DTSTART:20250101T000000
END:STANDARD
END:VTIMEZONE
BEGIN:VEVENT
DTSTART;TZID=UTC:20250314T200000
DTEND;TZID=UTC:20250314T200000
DTSTAMP:20260425T123625
CREATED:20250304T123108Z
LAST-MODIFIED:20250304T123108Z
UID:10337-1741982400-1741982400@rockcyclus.de
SUMMARY:Tas Cru & Mary-Ann Casale - An Acoustic Evening
DESCRIPTION:
URL:https://rockcyclus.de/event/tas-cru-mary-ann-casale-an-acoustic-evening/
LOCATION:Krohns Eck\, An der Packhalle IV\, Bremerhaven
END:VEVENT
END:VCALENDAR