BEGIN:VCALENDAR
VERSION:2.0
PRODID:-//Rockcyclus - ECPv5.16.0//NONSGML v1.0//EN
CALSCALE:GREGORIAN
METHOD:PUBLISH
X-WR-CALNAME:Rockcyclus
X-ORIGINAL-URL:https://rockcyclus.de
X-WR-CALDESC:Veranstaltungen für Rockcyclus
BEGIN:VTIMEZONE
TZID:UTC
BEGIN:STANDARD
TZOFFSETFROM:+0000
TZOFFSETTO:+0000
TZNAME:UTC
DTSTART:20190101T000000
END:STANDARD
END:VTIMEZONE
BEGIN:VEVENT
DTSTART;TZID=UTC:20190605T200000
DTEND;TZID=UTC:20190605T200000
DTSTAMP:20260424T193705
CREATED:20190604T173455Z
LAST-MODIFIED:20190604T193401Z
UID:5885-1559764800-1559764800@rockcyclus.de
SUMMARY:Tenski | Raoul Fabian | Young Chinese Dogs
DESCRIPTION:Tenski – https://www.facebook.com/tenskimusik/\nRaoul Fabian – https://www.facebook.com/Dropgo\nYoung Chinese Dogs – https://www.facebook.com/youngchinesedogs/
URL:https://rockcyclus.de/event/tenski-raoul-fabian-young-chines-dogs/
LOCATION:Tower\, Herdentorsteinweg 7a\, Bremen\, 28195
END:VEVENT
END:VCALENDAR