BEGIN:VCALENDAR
VERSION:2.0
PRODID:-//Rockcyclus - ECPv5.16.0//NONSGML v1.0//EN
CALSCALE:GREGORIAN
METHOD:PUBLISH
X-WR-CALNAME:Rockcyclus
X-ORIGINAL-URL:https://rockcyclus.de
X-WR-CALDESC:Veranstaltungen für Rockcyclus
BEGIN:VTIMEZONE
TZID:UTC
BEGIN:STANDARD
TZOFFSETFROM:+0000
TZOFFSETTO:+0000
TZNAME:UTC
DTSTART:20180101T000000
END:STANDARD
END:VTIMEZONE
BEGIN:VEVENT
DTSTART;TZID=UTC:20181117T210000
DTEND;TZID=UTC:20181117T210000
DTSTAMP:20260423T085245
CREATED:20181004T164725Z
LAST-MODIFIED:20181031T125829Z
UID:4705-1542488400-1542488400@rockcyclus.de
SUMMARY:Free Company
DESCRIPTION:https://www.free-company-rock.de/
URL:https://rockcyclus.de/event/the-aqualung-banana-roadkill-charlie-levin-2/
LOCATION:Café Schnapp\, Strichweg 9\, Cuxhaven\, 27472
END:VEVENT
END:VCALENDAR