BEGIN:VCALENDAR
VERSION:2.0
PRODID:-//Rockcyclus - ECPv5.16.0//NONSGML v1.0//EN
CALSCALE:GREGORIAN
METHOD:PUBLISH
X-WR-CALNAME:Rockcyclus
X-ORIGINAL-URL:https://rockcyclus.de
X-WR-CALDESC:Veranstaltungen für Rockcyclus
BEGIN:VTIMEZONE
TZID:UTC
BEGIN:STANDARD
TZOFFSETFROM:+0000
TZOFFSETTO:+0000
TZNAME:UTC
DTSTART:20190101T000000
END:STANDARD
END:VTIMEZONE
BEGIN:VEVENT
DTSTART;TZID=UTC:20190208T183000
DTEND;TZID=UTC:20190208T183000
DTSTAMP:20260425T140454
CREATED:20190107T170949Z
LAST-MODIFIED:20190107T170949Z
UID:5238-1549650600-1549650600@rockcyclus.de
SUMMARY:The Bourbon Preachers
DESCRIPTION:https://the-bourbon-preachers.jimdofree.com/
URL:https://rockcyclus.de/event/the-bourbon-preachers/
LOCATION:Lagerhaus Schildstraße\, Schildstraße 12-19\, Bremen\, 28203
END:VEVENT
END:VCALENDAR