BEGIN:VCALENDAR
VERSION:2.0
PRODID:-//Rockcyclus - ECPv5.16.0//NONSGML v1.0//EN
CALSCALE:GREGORIAN
METHOD:PUBLISH
X-WR-CALNAME:Rockcyclus
X-ORIGINAL-URL:https://rockcyclus.de
X-WR-CALDESC:Veranstaltungen für Rockcyclus
BEGIN:VTIMEZONE
TZID:UTC
BEGIN:STANDARD
TZOFFSETFROM:+0000
TZOFFSETTO:+0000
TZNAME:UTC
DTSTART:20180101T000000
END:STANDARD
END:VTIMEZONE
BEGIN:VEVENT
DTSTART;TZID=UTC:20181027T200000
DTEND;TZID=UTC:20181027T200000
DTSTAMP:20260421T094922
CREATED:20180903T164241Z
LAST-MODIFIED:20180903T164241Z
UID:4552-1540670400-1540670400@rockcyclus.de
SUMMARY:The Crimson Ghosts | Jamey Rottencorpse & The Rising Dead
DESCRIPTION:https://www.facebook.com/JameyRottencorpse/\nhttps://www.facebook.com/thecrimsonghosts/
URL:https://rockcyclus.de/event/the-crimson-ghosts-jamey-rottencorpse-the-rising-dead/
LOCATION:Bambi galore\, Öjendorfer Weg 30a\, Hamburg-Billstedt\, 22119
END:VEVENT
END:VCALENDAR