BEGIN:VCALENDAR
VERSION:2.0
PRODID:-//Rockcyclus - ECPv5.16.0//NONSGML v1.0//EN
CALSCALE:GREGORIAN
METHOD:PUBLISH
X-WR-CALNAME:Rockcyclus
X-ORIGINAL-URL:https://rockcyclus.de
X-WR-CALDESC:Veranstaltungen für Rockcyclus
BEGIN:VTIMEZONE
TZID:UTC
BEGIN:STANDARD
TZOFFSETFROM:+0000
TZOFFSETTO:+0000
TZNAME:UTC
DTSTART:20180101T000000
END:STANDARD
END:VTIMEZONE
BEGIN:VEVENT
DTSTART;TZID=UTC:20181028T200000
DTEND;TZID=UTC:20181028T200000
DTSTAMP:20260421T024241
CREATED:20180507T093724Z
LAST-MODIFIED:20180507T093724Z
UID:3440-1540756800-1540756800@rockcyclus.de
SUMMARY:The Quireboys | The Dust Bowl Jokies
DESCRIPTION:https://www.quireboys.com/ – https://www.dustbowljokies.com/
URL:https://rockcyclus.de/event/the-quireboys-the-dust-bowl-jokies/
LOCATION:Charlys Musikkneipe\, Wallstraße 26\, Oldenburg\, 26122
END:VEVENT
END:VCALENDAR