BEGIN:VCALENDAR
VERSION:2.0
PRODID:-//Rockcyclus - ECPv5.16.0//NONSGML v1.0//EN
CALSCALE:GREGORIAN
METHOD:PUBLISH
X-WR-CALNAME:Rockcyclus
X-ORIGINAL-URL:https://rockcyclus.de
X-WR-CALDESC:Veranstaltungen für Rockcyclus
BEGIN:VTIMEZONE
TZID:UTC
BEGIN:STANDARD
TZOFFSETFROM:+0000
TZOFFSETTO:+0000
TZNAME:UTC
DTSTART:20190101T000000
END:STANDARD
END:VTIMEZONE
BEGIN:VEVENT
DTSTART;TZID=UTC:20190817T180000
DTEND;TZID=UTC:20190817T180000
DTSTAMP:20260421T041732
CREATED:20190514T111016Z
LAST-MODIFIED:20190514T111016Z
UID:5805-1566064800-1566064800@rockcyclus.de
SUMMARY:The Seven T'S
DESCRIPTION:https://www.sevents.de/
URL:https://rockcyclus.de/event/the-seven-ts/
LOCATION:Biergarten Am Wald\, Lehnstedter Weg 37\, Schwanewede\, 28790\, Deutschland
END:VEVENT
END:VCALENDAR