BEGIN:VCALENDAR
VERSION:2.0
PRODID:-//Rockcyclus - ECPv5.16.0//NONSGML v1.0//EN
CALSCALE:GREGORIAN
METHOD:PUBLISH
X-WR-CALNAME:Rockcyclus
X-ORIGINAL-URL:https://rockcyclus.de
X-WR-CALDESC:Veranstaltungen für Rockcyclus
BEGIN:VTIMEZONE
TZID:UTC
BEGIN:STANDARD
TZOFFSETFROM:+0000
TZOFFSETTO:+0000
TZNAME:UTC
DTSTART:20180101T000000
END:STANDARD
END:VTIMEZONE
BEGIN:VEVENT
DTSTART;TZID=UTC:20181101T180000
DTEND;TZID=UTC:20181101T180000
DTSTAMP:20260420T211047
CREATED:20181023T125620Z
LAST-MODIFIED:20181028T153142Z
UID:4794-1541095200-1541095200@rockcyclus.de
SUMMARY:The Threemotions
DESCRIPTION:
URL:https://rockcyclus.de/event/the-threemotions/
LOCATION:Markthalle Acht\, Domshof 8 - 12\, Bremen\, 28195
END:VEVENT
END:VCALENDAR