BEGIN:VCALENDAR
VERSION:2.0
PRODID:-//Rockcyclus - ECPv5.16.0//NONSGML v1.0//EN
CALSCALE:GREGORIAN
METHOD:PUBLISH
X-WR-CALNAME:Rockcyclus
X-ORIGINAL-URL:https://rockcyclus.de
X-WR-CALDESC:Veranstaltungen für Rockcyclus
BEGIN:VTIMEZONE
TZID:UTC
BEGIN:STANDARD
TZOFFSETFROM:+0000
TZOFFSETTO:+0000
TZNAME:UTC
DTSTART:20190101T000000
END:STANDARD
END:VTIMEZONE
BEGIN:VEVENT
DTSTART;TZID=UTC:20190118T200000
DTEND;TZID=UTC:20190118T200000
DTSTAMP:20260424T095307
CREATED:20190103T122701Z
LAST-MODIFIED:20190103T122701Z
UID:5153-1547841600-1547841600@rockcyclus.de
SUMMARY:Tom Shaka
DESCRIPTION:https://www.tom-shaka.de
URL:https://rockcyclus.de/event/tom-shaka-2/
LOCATION:Thieles Garten\, Mecklenburger Weg 100\, Bremerhaven\, 27578
END:VEVENT
END:VCALENDAR