BEGIN:VCALENDAR
VERSION:2.0
PRODID:-//Rockcyclus - ECPv5.16.0//NONSGML v1.0//EN
CALSCALE:GREGORIAN
METHOD:PUBLISH
X-WR-CALNAME:Rockcyclus
X-ORIGINAL-URL:https://rockcyclus.de
X-WR-CALDESC:Veranstaltungen für Rockcyclus
BEGIN:VTIMEZONE
TZID:UTC
BEGIN:STANDARD
TZOFFSETFROM:+0000
TZOFFSETTO:+0000
TZNAME:UTC
DTSTART:20180101T000000
END:STANDARD
END:VTIMEZONE
BEGIN:VEVENT
DTSTART;TZID=UTC:20180414T190000
DTEND;TZID=UTC:20180414T190000
DTSTAMP:20260420T152028
CREATED:20180411T160024Z
LAST-MODIFIED:20180411T160024Z
UID:3241-1523732400-1523732400@rockcyclus.de
SUMMARY:Tommie Harris & Christian Bleiming
DESCRIPTION:
URL:https://rockcyclus.de/event/tommie-harris-christian-bleiming/
LOCATION:Burg Bad Bederkesa\, Amtsstraße 17\, Bad Bederkesa\, 27624
END:VEVENT
END:VCALENDAR