BEGIN:VCALENDAR
VERSION:2.0
PRODID:-//Rockcyclus - ECPv5.16.0//NONSGML v1.0//EN
CALSCALE:GREGORIAN
METHOD:PUBLISH
X-WR-CALNAME:Rockcyclus
X-ORIGINAL-URL:https://rockcyclus.de
X-WR-CALDESC:Veranstaltungen für Rockcyclus
BEGIN:VTIMEZONE
TZID:UTC
BEGIN:STANDARD
TZOFFSETFROM:+0000
TZOFFSETTO:+0000
TZNAME:UTC
DTSTART:20180101T000000
END:STANDARD
END:VTIMEZONE
BEGIN:VEVENT
DTSTART;TZID=UTC:20181102T200000
DTEND;TZID=UTC:20181102T200000
DTSTAMP:20260420T093927
CREATED:20181030T162759Z
LAST-MODIFIED:20181030T162812Z
UID:4830-1541188800-1541188800@rockcyclus.de
SUMMARY:Tone Fish
DESCRIPTION:https://www.facebook.com/Tonefishtunes/
URL:https://rockcyclus.de/event/tone-fish/
LOCATION:Ahabs\, Am Querkamp 22\, Cuxhaven\, 27472
END:VEVENT
END:VCALENDAR