BEGIN:VCALENDAR
VERSION:2.0
PRODID:-//Rockcyclus - ECPv5.16.0//NONSGML v1.0//EN
CALSCALE:GREGORIAN
METHOD:PUBLISH
X-WR-CALNAME:Rockcyclus
X-ORIGINAL-URL:https://rockcyclus.de
X-WR-CALDESC:Veranstaltungen für Rockcyclus
BEGIN:VTIMEZONE
TZID:UTC
BEGIN:STANDARD
TZOFFSETFROM:+0000
TZOFFSETTO:+0000
TZNAME:UTC
DTSTART:20190101T000000
END:STANDARD
END:VTIMEZONE
BEGIN:VEVENT
DTSTART;TZID=UTC:20190706T180000
DTEND;TZID=UTC:20190706T220000
DTSTAMP:20260422T031011
CREATED:20190623T111131Z
LAST-MODIFIED:20190623T111131Z
UID:6013-1562436000-1562450400@rockcyclus.de
SUMMARY:Tresen Am Meer
DESCRIPTION:https://www.facebook.com/events/573142619881723/
URL:https://rockcyclus.de/event/tresen-am-meer/
LOCATION:Diverse Kneipen\, Bremerhaven
END:VEVENT
END:VCALENDAR