BEGIN:VCALENDAR
VERSION:2.0
PRODID:-//Rockcyclus - ECPv5.16.0//NONSGML v1.0//EN
CALSCALE:GREGORIAN
METHOD:PUBLISH
X-WR-CALNAME:Rockcyclus
X-ORIGINAL-URL:https://rockcyclus.de
X-WR-CALDESC:Veranstaltungen für Rockcyclus
BEGIN:VTIMEZONE
TZID:UTC
BEGIN:STANDARD
TZOFFSETFROM:+0000
TZOFFSETTO:+0000
TZNAME:UTC
DTSTART:20170101T000000
END:STANDARD
END:VTIMEZONE
BEGIN:VEVENT
DTSTART;TZID=UTC:20170902T200000
DTEND;TZID=UTC:20170902T200000
DTSTAMP:20260423T232727
CREATED:20170712T224502Z
LAST-MODIFIED:20170712T224502Z
UID:1454-1504382400-1504382400@rockcyclus.de
SUMMARY:Tribute to Django Reinhardt
DESCRIPTION:Jörg Seidel & Glenn Hofmann mit Forello Hoffmann und Mario Emde
URL:https://rockcyclus.de/event/tribute-to-django-reinhardt/
LOCATION:Quartier 159\, Bürgermeister-Smidt-Straße 159\, Bremerhaven\, 27568
END:VEVENT
END:VCALENDAR