BEGIN:VCALENDAR
VERSION:2.0
PRODID:-//Rockcyclus - ECPv5.16.0//NONSGML v1.0//EN
CALSCALE:GREGORIAN
METHOD:PUBLISH
X-WR-CALNAME:Rockcyclus
X-ORIGINAL-URL:https://rockcyclus.de
X-WR-CALDESC:Veranstaltungen für Rockcyclus
BEGIN:VTIMEZONE
TZID:UTC
BEGIN:STANDARD
TZOFFSETFROM:+0000
TZOFFSETTO:+0000
TZNAME:UTC
DTSTART:20200101T000000
END:STANDARD
END:VTIMEZONE
BEGIN:VEVENT
DTSTART;TZID=UTC:20200311T210000
DTEND;TZID=UTC:20200311T210000
DTSTAMP:20260421T043655
CREATED:20200126T101929Z
LAST-MODIFIED:20200221T152935Z
UID:7065-1583960400-1583960400@rockcyclus.de
SUMMARY:Troy Petty
DESCRIPTION:http://troypettymusic.com/
URL:https://rockcyclus.de/event/troypetty-janja/
LOCATION:Janjas Musikbar\, Strichweg 39\, Cuxhaven
END:VEVENT
END:VCALENDAR