BEGIN:VCALENDAR
VERSION:2.0
PRODID:-//Rockcyclus - ECPv5.16.0//NONSGML v1.0//EN
CALSCALE:GREGORIAN
METHOD:PUBLISH
X-WR-CALNAME:Rockcyclus
X-ORIGINAL-URL:https://rockcyclus.de
X-WR-CALDESC:Veranstaltungen für Rockcyclus
BEGIN:VTIMEZONE
TZID:UTC
BEGIN:STANDARD
TZOFFSETFROM:+0000
TZOFFSETTO:+0000
TZNAME:UTC
DTSTART:20180101T000000
END:STANDARD
END:VTIMEZONE
BEGIN:VEVENT
DTSTART;TZID=UTC:20181030T200000
DTEND;TZID=UTC:20181030T200000
DTSTAMP:20260421T000610
CREATED:20180706T143350Z
LAST-MODIFIED:20180706T143359Z
UID:3986-1540929600-1540929600@rockcyclus.de
SUMMARY:Treptow
DESCRIPTION:https://www.facebook.com/events/193275591450642/
URL:https://rockcyclus.de/event/trptow/
LOCATION:Villa Rotenburg\, Birkenweg 2a\, Rotenburg/Wümme\, 27356
END:VEVENT
END:VCALENDAR