BEGIN:VCALENDAR
VERSION:2.0
PRODID:-//Rockcyclus - ECPv5.16.0//NONSGML v1.0//EN
CALSCALE:GREGORIAN
METHOD:PUBLISH
X-WR-CALNAME:Rockcyclus
X-ORIGINAL-URL:https://rockcyclus.de
X-WR-CALDESC:Veranstaltungen für Rockcyclus
BEGIN:VTIMEZONE
TZID:UTC
BEGIN:STANDARD
TZOFFSETFROM:+0000
TZOFFSETTO:+0000
TZNAME:UTC
DTSTART:20170101T000000
END:STANDARD
END:VTIMEZONE
BEGIN:VEVENT
DTSTART;TZID=UTC:20170707T190000
DTEND;TZID=UTC:20170707T190000
DTSTAMP:20260420T182614
CREATED:20170530T121859Z
LAST-MODIFIED:20170602T171607Z
UID:938-1499454000-1499454000@rockcyclus.de
SUMMARY:Turning Wheel
DESCRIPTION:
URL:https://rockcyclus.de/event/turning-wheel-3/
LOCATION:Marias Ballroom\, Lassallestr. 11\, Hamburg
ATTACH;FMTTYPE=image/jpeg:https://rockcyclus.de/wp-content/uploads/2017/05/Wheel-pr-2017.jpg
END:VEVENT
END:VCALENDAR