BEGIN:VCALENDAR
VERSION:2.0
PRODID:-//Rockcyclus - ECPv5.16.0//NONSGML v1.0//EN
CALSCALE:GREGORIAN
METHOD:PUBLISH
X-WR-CALNAME:Rockcyclus
X-ORIGINAL-URL:https://rockcyclus.de
X-WR-CALDESC:Veranstaltungen für Rockcyclus
BEGIN:VTIMEZONE
TZID:UTC
BEGIN:STANDARD
TZOFFSETFROM:+0000
TZOFFSETTO:+0000
TZNAME:UTC
DTSTART:20170101T000000
END:STANDARD
END:VTIMEZONE
BEGIN:VEVENT
DTSTART;TZID=UTC:20170902T210000
DTEND;TZID=UTC:20170902T210000
DTSTAMP:20260423T195048
CREATED:20170816T094016Z
LAST-MODIFIED:20170823T095803Z
UID:1653-1504386000-1504386000@rockcyclus.de
SUMMARY:Wild At Heart
DESCRIPTION:
URL:https://rockcyclus.de/event/turning-wheel-6/
LOCATION:Kuddels Musikkneipe\, Goethestraße 1\, Bremerhaven\, 27576
END:VEVENT
END:VCALENDAR