BEGIN:VCALENDAR
VERSION:2.0
PRODID:-//Rockcyclus - ECPv5.16.0//NONSGML v1.0//EN
CALSCALE:GREGORIAN
METHOD:PUBLISH
X-WR-CALNAME:Rockcyclus
X-ORIGINAL-URL:https://rockcyclus.de
X-WR-CALDESC:Veranstaltungen für Rockcyclus
BEGIN:VTIMEZONE
TZID:UTC
BEGIN:STANDARD
TZOFFSETFROM:+0000
TZOFFSETTO:+0000
TZNAME:UTC
DTSTART:20190101T000000
END:STANDARD
END:VTIMEZONE
BEGIN:VEVENT
DTSTART;TZID=UTC:20190119T210000
DTEND;TZID=UTC:20190119T210000
DTSTAMP:20260424T113854
CREATED:20181203T151017Z
LAST-MODIFIED:20181217T192104Z
UID:4980-1547931600-1547931600@rockcyclus.de
SUMMARY:Acoubastics
DESCRIPTION:
URL:https://rockcyclus.de/event/uc-blues-2/
LOCATION:Kuddels Musikkneipe\, Goethestraße 1\, Bremerhaven\, 27576
END:VEVENT
END:VCALENDAR