BEGIN:VCALENDAR
VERSION:2.0
PRODID:-//Rockcyclus - ECPv5.16.0//NONSGML v1.0//EN
CALSCALE:GREGORIAN
METHOD:PUBLISH
X-WR-CALNAME:Rockcyclus
X-ORIGINAL-URL:https://rockcyclus.de
X-WR-CALDESC:Veranstaltungen für Rockcyclus
BEGIN:VTIMEZONE
TZID:UTC
BEGIN:STANDARD
TZOFFSETFROM:+0000
TZOFFSETTO:+0000
TZNAME:UTC
DTSTART:20210101T000000
END:STANDARD
END:VTIMEZONE
BEGIN:VEVENT
DTSTART;TZID=UTC:20210618T183000
DTEND;TZID=UTC:20210618T183000
DTSTAMP:20260423T200156
CREATED:20210612T082203Z
LAST-MODIFIED:20210612T082203Z
UID:7746-1624041000-1624041000@rockcyclus.de
SUMMARY:Uli Keller - American Songs
DESCRIPTION:
URL:https://rockcyclus.de/event/uli-keller-american-songs-6/
LOCATION:Wirtshaus im Park\, Siebenbergensweg 36\, Bremerhaven\, Deutschland
END:VEVENT
END:VCALENDAR