BEGIN:VCALENDAR
VERSION:2.0
PRODID:-//Rockcyclus - ECPv5.16.0//NONSGML v1.0//EN
CALSCALE:GREGORIAN
METHOD:PUBLISH
X-WR-CALNAME:Rockcyclus
X-ORIGINAL-URL:https://rockcyclus.de
X-WR-CALDESC:Veranstaltungen für Rockcyclus
BEGIN:VTIMEZONE
TZID:UTC
BEGIN:STANDARD
TZOFFSETFROM:+0000
TZOFFSETTO:+0000
TZNAME:UTC
DTSTART:20170101T000000
END:STANDARD
END:VTIMEZONE
BEGIN:VEVENT
DTSTART;TZID=UTC:20170916T140000
DTEND;TZID=UTC:20170916T160000
DTSTAMP:20260420T094453
CREATED:20170824T104948Z
LAST-MODIFIED:20170828T120423Z
UID:1714-1505570400-1505577600@rockcyclus.de
SUMMARY:Uli Keller - American Songs
DESCRIPTION:
URL:https://rockcyclus.de/event/uli-keller-american-songs/
LOCATION:Mediterraneo\, 'Am Längengrad 12\, Bremerhaven\, 27568
ATTACH;FMTTYPE=image/jpeg:https://rockcyclus.de/wp-content/uploads/2017/05/uli-keller-bp.jpg
END:VEVENT
END:VCALENDAR